BEGIN:VCALENDAR
VERSION:2.0
PRODID:icalendar-ruby
CALSCALE:GREGORIAN
METHOD:PUBLISH
BEGIN:VEVENT
DTSTAMP:20260424T190729Z
UID:69-300849@humeridge.church
DTSTART:20230521T020000Z
DTEND:20230521T040000Z
CLASS:PUBLIC
CREATED:20230506T182334
DESCRIPTION:Join the HumeRidge Young Adults for a great afternoon at X-Golf
  - the state-of-the-art indoor golf simulator! Don't worry if you don't kn
 ow your driver from your putter\, we're just here to have some fun and eat
  some pizza!\nTickets need to be pre-purchased as we need a minimum number
  of players to book the venue. This event is sure to be a hole-in-one - do
 n't miss out on the opportunity to experience X-Golf!\n\nDate: Sunday\, Ma
 y 21\nTime: 12 - 2pm\nLocation: X-Golf Toowoomba\nCost: $20 per person (i
 ncludes lunch)\n
LAST-MODIFIED:20230506T182334
LOCATION:X-Golf Toowoomba
SUMMARY:Young Adults: X-Golf
URL;VALUE=URI:https://humeridge.church/events/young-adults-x-golf--69/2023-
 05-21
ATTACH;FILENAME=HYA X-Golf Slide.jpg;FMTTYPE=image/jpeg:https://dq5pwpg1q8r
 u0.cloudfront.net/2023/05/06/01/23/34/26cd5348-bec4-406d-bac4-6c412ba0e880
 /HYA%20X-Golf%20Slide.jpg
END:VEVENT
END:VCALENDAR
