BEGIN:VCALENDAR
VERSION:2.0
PRODID:icalendar-ruby
CALSCALE:GREGORIAN
METHOD:PUBLISH
BEGIN:VEVENT
DTSTAMP:20260424T185759Z
UID:54-296204@humeridge.church
DTSTART:20230225T080000Z
DTEND:20230225T100000Z
CLASS:PUBLIC
CREATED:20230219T110042
DESCRIPTION:Our Young Adults social group is back for 2023!\nJoin us for Mi
 ni Golf on Saturday 25th February at 6pm. Meet at the Mini Golf course at 
 the City Golf Club on South Street. Each person will need to pay the City
  Golf Club individually for their ticket\, which can be done with cash or 
 card when you arrive. Food and drinks are also available to purchase.\nPle
 ase mark yourself as attending in the facebook event so we can give them a
  rough idea of numbers. As always feel free to bring along a friend! \nPr
 ices for Mini Golf: $17 Adult Guest\, $15 Concession or $10 Members.
LAST-MODIFIED:20230219T110042
LOCATION:Toowoomba City Golf Club Mini Golf
SUMMARY:Young Adults Mini Golf
URL;VALUE=URI:https://humeridge.church/events/young-adults-mini-golf/2023-0
 2-25
ATTACH;FILENAME=Young Adults SCREEN.png;FMTTYPE=image/png:https://dq5pwpg1q
 8ru0.cloudfront.net/2023/02/14/18/02/44/15ffa56d-c117-459b-b904-3098d23c3e
 02/Young%20Adults%20SCREEN.png
END:VEVENT
END:VCALENDAR
