BEGIN:VCALENDAR
VERSION:2.0
PRODID:icalendar-ruby
CALSCALE:GREGORIAN
METHOD:PUBLISH
BEGIN:VEVENT
DTSTAMP:20260424T184805Z
UID:102-319565@humeridge.church
DTSTART:20240120T080000Z
DTEND:20240120T100000Z
CLASS:PUBLIC
CREATED:20240108T161236
DESCRIPTION:Our Young Adults social group is back for 2024!\nJoin us for Mi
 ni Golf on Saturday 20th January at 6pm. Meet at the Mini Golf course at t
 he City Golf Club on South Street.\nEach person will need to pay the City 
 Golf Club individually for their ticket. We will meet together as a group 
 before paying as there is a discounted rate depending on how many particip
 ants we have attending. Food and drinks are also available to purchase.\nP
 lease mark yourself as attending on the facebook event so we can give them
  a rough idea of numbers.\nAs always feel free to bring along a friend!\nT
 he price will be $17 at most\, however it hopefully will be less if we hav
 e a large enough group. There is also an additional discount for under 18s
  which may apply to some of our new high school graduates!
LAST-MODIFIED:20240108T161236
LOCATION:Toowoomba City Golf Club
SUMMARY:Young Adults Mini Golf
URL;VALUE=URI:https://humeridge.church/events/young-adults-mini-golf--102/2
 024-01-20
ATTACH;FILENAME=Young Adults SCREEN.png;FMTTYPE=image/png:https://dq5pwpg1q
 8ru0.cloudfront.net/2024/01/07/22/11/50/1d623b34-a08f-435d-a9bb-88f1d862a1
 5f/Young%20Adults%20SCREEN.png
END:VEVENT
END:VCALENDAR
