BEGIN:VCALENDAR
VERSION:2.0
PRODID:icalendar-ruby
CALSCALE:GREGORIAN
METHOD:PUBLISH
BEGIN:VEVENT
DTSTAMP:20260424T184937Z
UID:91-312037@humeridge.church
DTSTART:20231021T090000Z
DTEND:20231021T120000Z
CLASS:PUBLIC
CREATED:20231013T123251
DESCRIPTION:Young Adults\, it's time to show your competitive side at our T
 rivia Night\nThis is a free event\, and we will be providing a small suppe
 r\, however we recommend eating dinner beforehand. Hot drinks will be for 
 sale on the evening as well\, so you can get your caffeine fix to get your
  brain ticking along if needed \nAs we are quickly approaching the end of 
 the year\, we are extending the invite to year 12s too (as they will soon 
 be booted out of youth group and become one of us).\nAs always we encourag
 e you to bring a friend! Register by clicking 'going' on this facebook eve
 nt.\nThe event will take place at 7pm in the foyer at HumeRidge Church of 
 Christ. All young adults are welcome!
LAST-MODIFIED:20231013T123251
LOCATION:HumeRidge Church of Christ
SUMMARY:YA Trivia
URL;VALUE=URI:https://humeridge.church/events/ya-trivia/2023-10-21
ATTACH;FILENAME=Young Adults SCREEN (1).png;FMTTYPE=image/png:https://dq5pw
 pg1q8ru0.cloudfront.net/2023/10/12/19/32/51/ea02cfa9-74dd-43f3-8979-519f52
 5813bf/Young%20Adults%20SCREEN%20(1).png
END:VEVENT
END:VCALENDAR
