BEGIN:VCALENDAR
VERSION:2.0
PRODID:icalendar-ruby
CALSCALE:GREGORIAN
METHOD:PUBLISH
BEGIN:VEVENT
DTSTAMP:20260424T185611Z
UID:68-300965@humeridge.church
DTSTART:20230521T003000Z
DTEND:20230521T013000Z
CLASS:PUBLIC
CREATED:20230508T141218
DESCRIPTION:Are you new to HumeRidge? Have you recently decided to call our
  church home?\nWe invite you to come along to our next Welcome Morning Tea
  after church on Sunday 21st May. At this morning tea we will provide you 
 with information about our church\, introduce staff and elders\, as well a
 s discuss the many different areas of our church that you can get involved
  in. We will also answer any questions you might have.\nRegister by clicki
 ng the button below.
LAST-MODIFIED:20230508T141218
LOCATION:HumeRidge Church of Christ
SUMMARY:Welcome Morning Tea
URL;VALUE=URI:https://humeridge.church/events/welcome-morning-tea/2023-05-2
 1
ATTACH;FILENAME=Screen (16_9).png;FMTTYPE=image/png:https://dq5pwpg1q8ru0.c
 loudfront.net/2023/05/04/18/22/12/2e29d7e7-f070-4928-8b9b-ffe243c9b0fe/Scr
 een%20(16_9).png
END:VEVENT
END:VCALENDAR
