BEGIN:VCALENDAR
VERSION:2.0
PRODID:icalendar-ruby
CALSCALE:GREGORIAN
METHOD:PUBLISH
BEGIN:VEVENT
DTSTAMP:20260424T190559Z
UID:78-305391@humeridge.church
DTSTART:20230716T013000Z
DTEND:20230716T073000Z
CLASS:PUBLIC
CREATED:20230717T150616
DESCRIPTION:An afternoon for our Youth\, Youth Church and Stumpys leaders t
 o encourage each other and refocus for the second part of the year. Lunch 
 and afternoon tea included at no cost. Please make every effort to be ther
 e. We hope that it will be an extremely important afternoon together and t
 hat you may come away feeling more encouraged and connected.\nWhen: Sunday
  16th July 11.30am-5.30pm\nWhere: HumeRidge Church of Christ\, Chapel
LAST-MODIFIED:20230717T150616
LOCATION:
SUMMARY:Spiritual Retreat for Kids & Youth Leaders
URL;VALUE=URI:https://humeridge.church/events/spiritual-retreat-for-kids-yo
 uth-leaders/2023-07-16
ATTACH;FILENAME=Untitled design.png;FMTTYPE=image/png:https://dq5pwpg1q8ru0
 .cloudfront.net/2023/06/27/20/55/02/1554667c-2f0f-43f7-8e42-14b14256db8a/U
 ntitled%20design.png
END:VEVENT
END:VCALENDAR
