BEGIN:VCALENDAR
VERSION:2.0
PRODID:icalendar-ruby
CALSCALE:GREGORIAN
METHOD:PUBLISH
BEGIN:VEVENT
DTSTAMP:20260424T185336Z
UID:52-294211@humeridge.church
DTSTART:20230120T220000Z
DTEND:20230121T020000Z
CLASS:PUBLIC
CREATED:20230106T190250
DESCRIPTION:As a Church we are called to be generous with our time. So on J
 anuary 21st\, we are going to Centenary Heights State High School to serve
  them as a community by doing some gardening and maintenance around the sc
 hool.\nWould you consider signing up for this and joining us as we show ou
 r community spirit by tidying up and helping a local school?\nIf you are a
 ble to bring along any of the following for the day\, we would really appr
 eciate it!\n\nLawn Mower\nWhipper Snipper\nGardening Tools\nShovels\nRakes
 \nWheelbarrows\n\nPlease also bring along sun protection\, water and a smi
 le!\nWe will be providing Morning Tea for all who come along to help
LAST-MODIFIED:20230106T190250
LOCATION:Centenary Heights State High School
SUMMARY:School Yard Blitz
URL;VALUE=URI:https://humeridge.church/events/school-yard-blitz/2023-01-21
ATTACH;FILENAME=Screen (16_9 - 1920x1080).png;FMTTYPE=image/png:https://dq5
 pwpg1q8ru0.cloudfront.net/2023/01/06/01/02/50/58112b64-d0c5-4eaf-9c62-69a0
 e4d4124e/Screen%20(16_9%20-%201920x1080).png
END:VEVENT
END:VCALENDAR
