BEGIN:VCALENDAR
VERSION:2.0
PRODID:icalendar-ruby
CALSCALE:GREGORIAN
METHOD:PUBLISH
BEGIN:VEVENT
DTSTAMP:20260424T185244Z
UID:131-362716@humeridge.church
DTSTART:20240907T033000Z
DTEND:20240907T063000Z
CLASS:PUBLIC
CREATED:20240816T172742
DESCRIPTION:Do you need a break from the pace of your everyday life?\nCome 
 and spend an afternoon meditating on Gods word\, praying and worshipping G
 od with like-minded people.\nLight afternoon tea provided.\nDate: Saturday
  7th September\nTime: 1:30pm-4:30pm\nCost: $10\nLocation: Home of Rob and
  Chris Bullock (address to be provided upon registration)
LAST-MODIFIED:20240816T172742
LOCATION:Home of Rob & Chris Bullock
SUMMARY:Prayer Retreat
URL;VALUE=URI:https://humeridge.church/events/prayer-retreat/2024-09-07
ATTACH;FILENAME=Prayer Retreat SCREEN.png;FMTTYPE=image/png:https://dq5pwpg
 1q8ru0.cloudfront.net/2024/08/16/07/27/42/8209701f-02e3-40b2-8df9-b0557154
 2298/Prayer%20Retreat%20SCREEN.png
END:VEVENT
END:VCALENDAR
