BEGIN:VCALENDAR
VERSION:2.0
PRODID:icalendar-ruby
CALSCALE:GREGORIAN
METHOD:PUBLISH
BEGIN:VEVENT
DTSTAMP:20260424T140722Z
UID:195-682530@humeridge.church
DTSTART:20260427T233000Z
DTEND:20260428T010000Z
CLASS:PUBLIC
CREATED:20260420T123412
DESCRIPTION:
LAST-MODIFIED:20260420T123412
LOCATION:HumeRidge Church of Christ
SUMMARY:Playgroup
URL;VALUE=URI:https://humeridge.church/events/playgroup--195/2026-04-28
ATTACH;FILENAME=Playgroup Event.png;FMTTYPE=image/png:https://dq5pwpg1q8ru0
 .cloudfront.net/2026/04/20/02/34/12/19dca037-aa31-448c-b7b2-2774c0e4db47/P
 laygroup%20Event.png
END:VEVENT
END:VCALENDAR
