BEGIN:VCALENDAR
VERSION:2.0
PRODID:icalendar-ruby
CALSCALE:GREGORIAN
METHOD:PUBLISH
BEGIN:VEVENT
DTSTAMP:20260424T184759Z
UID:73-303681@humeridge.church
DTSTART:20230707T033000Z
DTEND:20230708T130000Z
CLASS:PUBLIC
CREATED:20230621T120315
DESCRIPTION:What it is: a 1-night camp at HumeRidge Church of Christ for ye
 ar 11 and 12 boys. A chance to hang out\, play games and discuss what it m
 eans to be a good man in a world that presents so many mixed messages of m
 anhood. \nWhen: Friday\, 7th July 2023 at 1:30pm → Saturday\, 8th July 
 2023 at 10:00 pm\nWhere: HumeRidge Church of Christ
LAST-MODIFIED:20230621T120315
LOCATION:Humeridge Church of Christ
SUMMARY:Man Camp
URL;VALUE=URI:https://humeridge.church/events/man-camp/2023-07-07
ATTACH;FILENAME=Man Camp 2023 SCREEN.png;FMTTYPE=image/png:https://dq5pwpg1
 q8ru0.cloudfront.net/2023/06/13/21/27/32/102adcc3-557a-421c-b477-43a404c9c
 30b/Man%20Camp%202023%20SCREEN.png
END:VEVENT
END:VCALENDAR
