BEGIN:VCALENDAR
VERSION:2.0
PRODID:icalendar-ruby
CALSCALE:GREGORIAN
METHOD:PUBLISH
BEGIN:VEVENT
DTSTAMP:20260424T191434Z
UID:103-319752@humeridge.church
DTSTART:20240126T070000Z
DTEND:20240128T050000Z
CLASS:PUBLIC
CREATED:20240110T072805
DESCRIPTION:WHAT: For all those interested in volunteering in the HR Kids\,
  Stumpys or Youth Ministries at HumeRidge in 2024. A weekend of training a
 nd equipping potential leaders. Volunteer application process and applicat
 ion forms will then be made available.\nWHERE: Camp Somerset\, Waterfront 
 Road\, Crossdale QLD 4312 (1 hr 20mins from Toowoomba)\nWHEN: Friday 26th 
 Jan from 5pm to Sunday 28th Jan 1pm (returning to Toowoomba by 3pm). \nCO
 ST: $180 per person\, $100 for students\nTo pay a deposit of $50 use the c
 ode: Deposit\nFor further information please contact any of the youth work
 ers\; Rahnne\, Emma and Jackson.
LAST-MODIFIED:20240110T072805
LOCATION:Camp Somerset\, Waterfront Road\, Crossdale QLD 4312
SUMMARY:Leadership Camp 2024
URL;VALUE=URI:https://humeridge.church/events/leadership-camp-2024/2024-01-
 26
ATTACH;FILENAME=LC2024 Screen.png;FMTTYPE=image/png:https://dq5pwpg1q8ru0.c
 loudfront.net/2024/01/09/13/28/05/dd4350c2-bda6-4a49-848d-fa4153b4a729/LC2
 024%20Screen.png
END:VEVENT
END:VCALENDAR
