BEGIN:VCALENDAR
VERSION:2.0
PRODID:icalendar-ruby
CALSCALE:GREGORIAN
METHOD:PUBLISH
BEGIN:VEVENT
DTSTAMP:20260424T190854Z
UID:51-294633@humeridge.church
DTSTART:20230127T070000Z
DTEND:20230129T050000Z
CLASS:PUBLIC
CREATED:20230116T124009
DESCRIPTION:We are encouraging all Leaders and Volunteers involved in Youth
  and Children's Ministries to register for Leadership Camp in 2023. We wo
 uld like to invite anyone interested in leading in these areas or gaining 
 more leadership training to attend.\nLOCATION: Camp Somerset. Waterfront R
 oad\, Crossdale QLD 4312\nTransport is available via buses or via individu
 al cars (if driver has open licence or is approved by Ross/Emma) \nCOST: 
 $140 per person (covers accommodation\, meals and extras) or Student Pric
 e $100 per person.\n 
LAST-MODIFIED:20230116T124009
LOCATION:Camp Somerset
SUMMARY:Leadership Camp 2023
URL;VALUE=URI:https://humeridge.church/events/leadership-camp-2023/2023-01-
 27
ATTACH;FILENAME=Leadership Camp 2023 Flyer (Presentation (169)).png;FMTTYPE
 =image/png:https://dq5pwpg1q8ru0.cloudfront.net/2022/12/22/02/28/03/1db0f0
 f0-c8d6-4f91-9653-16e9d482dfeb/Leadership%20Camp%202023%20Flyer%20(Present
 ation%20(169)).png
END:VEVENT
END:VCALENDAR
