BEGIN:VCALENDAR
VERSION:2.0
PRODID:icalendar-ruby
CALSCALE:GREGORIAN
METHOD:PUBLISH
BEGIN:VEVENT
DTSTAMP:20260421T123742Z
UID:203-682813@humeridge.church
DTSTART:20260507T024500Z
DTEND:20260507T041500Z
CLASS:PUBLIC
CREATED:20260420T125730
DESCRIPTION:
LAST-MODIFIED:20260420T125730
LOCATION:HumeRidge Church of Christ
SUMMARY:KYB (Thurs)
URL;VALUE=URI:https://humeridge.church/events/kyb-thurs--203/2026-05-07
ATTACH;FILENAME=KYB Event.png;FMTTYPE=image/png:https://dq5pwpg1q8ru0.cloud
 front.net/2026/04/20/02/57/29/dc4e5c73-c0fd-4e7e-b185-0602c38dce96/KYB%20E
 vent.png
END:VEVENT
END:VCALENDAR
