BEGIN:VCALENDAR
VERSION:2.0
PRODID:icalendar-ruby
CALSCALE:GREGORIAN
METHOD:PUBLISH
BEGIN:VEVENT
DTSTAMP:20260425T041133Z
UID:196-682547@humeridge.church
DTSTART:20260620T230000Z
DTEND:20260621T003000Z
CLASS:PUBLIC
CREATED:20260420T123609
DESCRIPTION:
LAST-MODIFIED:20260420T123609
LOCATION:HumeRidge Church of Christ
SUMMARY:Kids Church
URL;VALUE=URI:https://humeridge.church/events/kids-church--196/2026-06-21
ATTACH;FILENAME=Kids Church Event.jpg;FMTTYPE=image/jpeg:https://dq5pwpg1q8
 ru0.cloudfront.net/2026/04/20/02/36/09/f077c682-d9a5-4092-8109-fd1dce00c42
 6/Kids%20Church%20Event.jpg
END:VEVENT
END:VCALENDAR
