BEGIN:VCALENDAR
VERSION:2.0
PRODID:icalendar-ruby
CALSCALE:GREGORIAN
METHOD:PUBLISH
BEGIN:VEVENT
DTSTAMP:20260424T190938Z
UID:76-305392@humeridge.church
DTSTART:20230722T033000Z
DTEND:20230722T060000Z
CLASS:PUBLIC
CREATED:20230717T150634
DESCRIPTION:Our next Girls Night Out event is coming up soon! It's time to 
 get crafty! \nJoin us for a relaxing afternoon where we will be doing a P
 aint &amp\; Sip on calico bags. As well sharing in afternoon tea together.
  Allison Rattray from Project 114 will be coming to share with us and talk
  about the work that Project 114 does. \nTickets are $15 each or two for 
 $22 - invite your friends to come along!\nRegister for this event at www.h
 umeridge.church/events  
LAST-MODIFIED:20230717T150634
LOCATION:
SUMMARY:GNO Sip & Paint
URL;VALUE=URI:https://humeridge.church/events/gno-sip-paint/2023-07-22
ATTACH;FILENAME=GNO sip and paint SCREEN.png;FMTTYPE=image/png:https://dq5p
 wpg1q8ru0.cloudfront.net/2023/06/22/21/31/09/dd3dc0ba-387d-4270-867d-44677
 ba1db2d/GNO%20sip%20and%20paint%20SCREEN.png
END:VEVENT
END:VCALENDAR
