BEGIN:VCALENDAR
VERSION:2.0
PRODID:icalendar-ruby
CALSCALE:GREGORIAN
METHOD:PUBLISH
BEGIN:VEVENT
DTSTAMP:20260424T190854Z
UID:74-303680@humeridge.church
DTSTART:20230707T033000Z
DTEND:20230708T130000Z
CLASS:PUBLIC
CREATED:20230621T120253
DESCRIPTION:Girls retreat is a weekend full of laughter\, encouragement and
  discussion. We will be having sessions discussing life after school\, fai
 th\, relationships and friendships\, with time for reflection and\, most i
 mportantly\, fun!\nWhen: Friday 7th July to Saturday 8th July\nWhere: Hume
 Ridge Church of Christ\nWho: Grade 12 girls involved in HR Youth\nFood: Al
 l meals are provided\nCost: $50 (pay with credit card when you register or
  with cash/card at church)
LAST-MODIFIED:20230621T120253
LOCATION:HumeRidge Church of Christ
SUMMARY:Girls Retreat 2023
URL;VALUE=URI:https://humeridge.church/events/girls-retreat-2023/2023-07-07
ATTACH;FILENAME=MicrosoftTeams-image.png;FMTTYPE=image/png:https://dq5pwpg1
 q8ru0.cloudfront.net/2023/06/20/19/02/53/bb3ebb2c-f068-4a9b-8a4a-05f06b80e
 efd/MicrosoftTeams-image.png
END:VEVENT
END:VCALENDAR
