BEGIN:VCALENDAR
VERSION:2.0
PRODID:icalendar-ruby
CALSCALE:GREGORIAN
METHOD:PUBLISH
BEGIN:VEVENT
DTSTAMP:20260424T191310Z
UID:67-300384@humeridge.church
DTSTART:20230531T000000Z
DTEND:20230531T013000Z
CLASS:PUBLIC
CREATED:20230428T152630
DESCRIPTION:Do you have Questions like these?\n\nWhat do Christians believe
 ?\nWho is Jesus?\nWhere do we go when we die?\nHow can I know for sure if 
 I will go to heaven?\nHow can I find purpose in my life? \n\nChristianity
  Explained is a course where you can ask questions in a safe environment. 
 The course is run over six sessions\, where the basics of the Christian fa
 ith are explained and where you will not be asked to answer questions\, re
 ad the bible aloud or pray aloud.\nThe course is free\, and all materials 
 are provided for you.\nChristianity Explained is suitable for anyone\, fro
 m those curious about the Christian faith with no Christian background to 
 mature Christians wanting to have a clear basis for their faith.\nThere wi
 ll be two different course options to attend:\n\nTuesday nights commencing
  2nd May through to 6th June held at the home of Bob and Denise Hogarth in
  Middle Ridge (Address to be supplied upon registration).\nWednesday morni
 ng during KYB at HumeRidge Church of Christ starting 26th April through to
  31st May.\n
LAST-MODIFIED:20230428T152630
LOCATION:HumeRidge Church of Christ
SUMMARY:Christianity Explained (Wednesday Morning)
URL;VALUE=URI:https://humeridge.church/events/christianity-explained-wednes
 day-morning/2023-05-31
ATTACH;FILENAME=Full Screen Graphic.png;FMTTYPE=image/png:https://dq5pwpg1q
 8ru0.cloudfront.net/2023/04/03/18/33/51/2cf3ee46-9c96-454e-bff8-b93870ff6a
 ae/Full%20Screen%20Graphic.png
END:VEVENT
END:VCALENDAR
