BEGIN:VCALENDAR
VERSION:2.0
PRODID:icalendar-ruby
CALSCALE:GREGORIAN
METHOD:PUBLISH
BEGIN:VEVENT
DTSTAMP:20260424T191424Z
UID:66-300975@humeridge.church
DTSTART:20230606T090000Z
DTEND:20230606T110000Z
CLASS:PUBLIC
CREATED:20230508T141257
DESCRIPTION:Do you have Questions like these?\n\nWhat do Christians believe
 ?\nWho is Jesus?\nWhere do we go when we die?\nHow can I know for sure if 
 I will go to heaven?\nHow can I find purpose in my life?\n\nChristianity E
 xplained is a course where you can ask questions in a safe environment. Th
 e course is run over six sessions\, where the basics of the Christian fait
 h are explained and where you will not be asked to answer questions\, read
  the bible aloud or pray aloud.\nThe course is free\, and all materials ar
 e provided for you.\nChristianity Explained is suitable for anyone\, from 
 those curious about the Christian faith with no Christian background to ma
 ture Christians wanting to have a clear basis for their faith.\nThere will
  be two different course options to attend:\n\nTuesday nights commencing 2
 nd May through to 6th June held at the home of Bob and Denise Hogarth in M
 iddle Ridge (Address to be supplied upon registration).\nWednesday morning
  during KYB at HumeRidge Church of Christ starting 26th April through to 3
 1st May.\n
LAST-MODIFIED:20230508T141257
LOCATION:
SUMMARY:Christianity Explained (Tuesday Night)
URL;VALUE=URI:https://humeridge.church/events/christianity-explained-tuesda
 y-night/2023-06-06
ATTACH;FILENAME=Full Screen Graphic.png;FMTTYPE=image/png:https://dq5pwpg1q
 8ru0.cloudfront.net/2023/04/03/18/35/38/62834d6b-5226-44fe-9843-a8e6fc67c5
 62/Full%20Screen%20Graphic.png
END:VEVENT
END:VCALENDAR
