BEGIN:VCALENDAR
VERSION:2.0
PRODID:icalendar-ruby
CALSCALE:GREGORIAN
METHOD:PUBLISH
BEGIN:VEVENT
DTSTAMP:20260424T191505Z
UID:163-436021@humeridge.church
DTSTART:20250603T233000Z
DTEND:20250604T013000Z
CLASS:PUBLIC
CREATED:20250520T160123
DESCRIPTION:Join us for Australias Biggest Morning Tea!\nEnjoy a relaxing m
 orning with tea\, treats\, and live music by Elizabeth Rae at HumeRidge Ch
 urch of Christ. Tickets are $10 and include morning tea. There will also b
 e a variety of goods for sale.\nDate: Wednesday\, June 4th\nTime: 9:30am 1
 1:30am\nLocation: HumeRidge Church of Christ\nAll proceeds support a great
  causecome along and make a difference over a cuppa!\n\nYou can pre-purcha
 se your tickets here or pay at the door on the day.
LAST-MODIFIED:20250520T160123
LOCATION:HumeRidge Church of Christ
SUMMARY:Australia's Biggest Morning Tea
URL;VALUE=URI:https://humeridge.church/events/australias-biggest-morning-te
 a--163/2025-06-04
ATTACH;FILENAME=image002.jpg;FMTTYPE=image/jpeg:https://dq5pwpg1q8ru0.cloud
 front.net/2025/05/20/06/01/22/9f34d2bd-8ed4-46ca-965b-195d17a4a878/image00
 2.jpg
END:VEVENT
END:VCALENDAR
